BEGIN:VCALENDAR
VERSION:2.0
PRODID:-//Plone.org//NONSGML plone.app.event//EN
X-WR-TIMEZONE:America/Toronto
BEGIN:VEVENT
SUMMARY:Music and pain (for neuroscience and music therapy)
DTSTART;TZID=America/Montreal;VALUE=DATE-TIME:20090227T090000
DTEND;TZID=America/Montreal;VALUE=DATE-TIME:20090227T160000
DTSTAMP;VALUE=DATE-TIME:20260422T033229Z
UID:c9b64b3e62773a26c81564d479626e97@project_zeoclients
CREATED;VALUE=DATE-TIME:20220210T004216Z
DESCRIPTION:This workshop is organized by BRAMS (International Laboratory 
 for Brain\, Music & Sound Research)\,  CIRMMT Research Axis 5 (Music Perce
 ption and Cognition)\, and the Faculté de Musique (Université de Montré
 al).  It will take place on February 27th\, 2009.  Registration is $25 ($1
 5 for students)\, and includes lunch and two coffee breaks.
LAST-MODIFIED;VALUE=DATE-TIME:20220211T202125Z
LOCATION:Pavillon 1420 boul. Mont Royal\, Entrée 1430\, Suite 0-120 (BRAM
 S)\, Université de Montréal
URL:https://www.cirmmt.org/en/events/workshops/meetings/music-pain
END:VEVENT
BEGIN:VTIMEZONE
TZID:America/Montreal
X-LIC-LOCATION:America/Montreal
BEGIN:STANDARD
DTSTART;VALUE=DATE-TIME:20081102T010000
TZNAME:EST
TZOFFSETFROM:-0400
TZOFFSETTO:-0500
END:STANDARD
END:VTIMEZONE
END:VCALENDAR
