BEGIN:VCALENDAR
VERSION:2.0
PRODID:-//Plone.org//NONSGML plone.app.event//EN
X-WR-TIMEZONE:America/Toronto
BEGIN:VEVENT
SUMMARY:CIRMMT/BRAMS Workshop on How Musical Training Changes Cognitive Fu
 nction
DTSTART;TZID=America/Montreal;VALUE=DATE-TIME:20100122T090000
DTEND;TZID=America/Montreal;VALUE=DATE-TIME:20100122T160000
DTSTAMP;VALUE=DATE-TIME:20260422T032820Z
UID:7e250703670e007b996e40deee522d44@project_zeoclients
CREATED;VALUE=DATE-TIME:20220210T004235Z
DESCRIPTION:This workshop is a joint workshop organized by Axis 5 (Music P
 erception and Cognition) and BRAMS. It will take place on January 22nd\, 2
 010 at 9am. This workshop is free and open to all. Registration is require
 d.
LAST-MODIFIED;VALUE=DATE-TIME:20220211T205517Z
LOCATION:A832 and A833  New Music Building\, 527 Sherbrooke St. West (ente
 r via 555 Sherbrooke St. West) 
URL:https://www.cirmmt.org/en/events/workshops/meetings/musical-training
END:VEVENT
BEGIN:VTIMEZONE
TZID:America/Montreal
X-LIC-LOCATION:America/Montreal
BEGIN:STANDARD
DTSTART;VALUE=DATE-TIME:20091101T010000
TZNAME:EST
TZOFFSETFROM:-0400
TZOFFSETTO:-0500
END:STANDARD
END:VTIMEZONE
END:VCALENDAR
