BEGIN:VCALENDAR
VERSION:2.0
PRODID:-//Plone.org//NONSGML plone.app.event//EN
X-WR-TIMEZONE:America/Toronto
BEGIN:VEVENT
SUMMARY:[ONLINE] New student orientation meeting #1
DTSTART;TZID=America/Montreal;VALUE=DATE-TIME:20200928T120000
DTEND;TZID=America/Montreal;VALUE=DATE-TIME:20200928T130000
DTSTAMP;VALUE=DATE-TIME:20260421T151249Z
UID:ad0e65cd0d9c46469d4cf1fe6331ed35@project_zeoclients
CREATED;VALUE=DATE-TIME:20210321T215520Z
DESCRIPTION:This meeting is mandatory to new students seeking to book labs
  and equipment. It is also available to those who want a refresher on the 
 facilities and resources available at CIRMMT
LAST-MODIFIED;VALUE=DATE-TIME:20210321T215520Z
LOCATION:Online - WebEx
URL:https://www.cirmmt.org/en/events/workshops/meetings/new-student_welcom
 e_meeting
END:VEVENT
BEGIN:VTIMEZONE
TZID:America/Montreal
X-LIC-LOCATION:America/Montreal
BEGIN:DAYLIGHT
DTSTART;VALUE=DATE-TIME:20200308T030000
TZNAME:EDT
TZOFFSETFROM:-0500
TZOFFSETTO:-0400
END:DAYLIGHT
END:VTIMEZONE
END:VCALENDAR
