BEGIN:VCALENDAR
VERSION:2.0
PRODID:-//Plone.org//NONSGML plone.app.event//EN
X-WR-TIMEZONE:America/Toronto
BEGIN:VEVENT
SUMMARY:[ONLINE] New student orientation meeting #2
DTSTART;TZID=America/Montreal;VALUE=DATE-TIME:20201001T140000
DTEND;TZID=America/Montreal;VALUE=DATE-TIME:20201001T150000
DTSTAMP;VALUE=DATE-TIME:20260421T151310Z
UID:4ac6a101758d4f8fb404eb7f6bf03227@project_zeoclients
CREATED;VALUE=DATE-TIME:20210321T215521Z
DESCRIPTION:This meeting is mandatory to new students seeking to book labs
  and equipment. It is also available to those who want a refresher on the 
 facilities and resources available at CIRMMT
LAST-MODIFIED;VALUE=DATE-TIME:20210321T215521Z
LOCATION:Online - WebEx
URL:https://www.cirmmt.org/en/events/workshops/meetings/new-student_welcom
 e_meeting_2
END:VEVENT
BEGIN:VTIMEZONE
TZID:America/Montreal
X-LIC-LOCATION:America/Montreal
BEGIN:DAYLIGHT
DTSTART;VALUE=DATE-TIME:20200308T030000
TZNAME:EDT
TZOFFSETFROM:-0500
TZOFFSETTO:-0400
END:DAYLIGHT
END:VTIMEZONE
END:VCALENDAR
