BEGIN:VCALENDAR
VERSION:2.0
PRODID:-//Plone.org//NONSGML plone.app.event//EN
X-WR-TIMEZONE:America/Toronto
BEGIN:VEVENT
SUMMARY:Workshop: What can patterns in corpora tell us about the organizat
 ion of music and language?
DTSTART;TZID=America/Montreal;VALUE=DATE-TIME:20110218T090000
DTEND;TZID=America/Montreal;VALUE=DATE-TIME:20110218T130000
DTSTAMP;VALUE=DATE-TIME:20260422T002910Z
UID:93e1509ff1a650b774ae315f8166bcfb@project_zeoclients
CREATED;VALUE=DATE-TIME:20220210T004223Z
DESCRIPTION:This workshop is co-organized by CIRMMT Research Axis 5 (Music
  perception and cognition) and Research Axis 3 (Musical information retrie
 val\, archiving and analysis)\, in collaboration with the Centre for Resea
 rch in Language\, Mind and Brain (CRLMB). It will take place on February 1
 8\, 2011\, from 9:00am-1:00pm in A832 (New Music Building).  This workshop
  is free and open to all.  Registration is required. \n\n\n
LAST-MODIFIED;VALUE=DATE-TIME:20220211T185237Z
LOCATION:A832\, New Music Building\, 527 Sherbrooke St. West. 
URL:https://www.cirmmt.org/en/events/workshops/meetings/patterns-corpora
END:VEVENT
BEGIN:VTIMEZONE
TZID:America/Montreal
X-LIC-LOCATION:America/Montreal
BEGIN:STANDARD
DTSTART;VALUE=DATE-TIME:20101107T010000
TZNAME:EST
TZOFFSETFROM:-0400
TZOFFSETTO:-0500
END:STANDARD
END:VTIMEZONE
END:VCALENDAR
