BEGIN:VCALENDAR
VERSION:2.0
PRODID:-//Plone.org//NONSGML plone.app.event//EN
X-WR-TIMEZONE:America/Toronto
BEGIN:VEVENT
SUMMARY:Collaboration workshop with Quartier des spectacles
DTSTART;TZID=America/Montreal;VALUE=DATE-TIME:20150316T150000
DTEND;TZID=America/Montreal;VALUE=DATE-TIME:20150316T180000
DTSTAMP;VALUE=DATE-TIME:20260421T191858Z
UID:9389ad868bfaed79a50879f2e9ac054f@project_zeoclients
CREATED;VALUE=DATE-TIME:20220210T004207Z
DESCRIPTION:This CIRMMT workshop will take place on March 16th\, 2015\, in
  A832 (New Music Building). This workshop is free and open to all. Registr
 ation is required. \n\n\n
LAST-MODIFIED;VALUE=DATE-TIME:20220211T185057Z
LOCATION:A832\, New Music Building\, 527 Sherbrooke St. West.
URL:https://www.cirmmt.org/en/events/workshops/meetings/quartierdesspectac
 les
END:VEVENT
BEGIN:VTIMEZONE
TZID:America/Montreal
X-LIC-LOCATION:America/Montreal
BEGIN:DAYLIGHT
DTSTART;VALUE=DATE-TIME:20150308T030000
TZNAME:EDT
TZOFFSETFROM:-0500
TZOFFSETTO:-0400
END:DAYLIGHT
END:VTIMEZONE
END:VCALENDAR
