BEGIN:VCALENDAR
VERSION:2.0
PRODID:-//Plone.org//NONSGML plone.app.event//EN
X-WR-TIMEZONE:America/Toronto
BEGIN:VEVENT
SUMMARY:Research Axis 3 (Cognition\, perception and movement) General Meet
 ing
DTSTART;TZID=America/Montreal;VALUE=DATE-TIME:20171123T120000
DTEND;TZID=America/Montreal;VALUE=DATE-TIME:20171123T130000
DTSTAMP;VALUE=DATE-TIME:20260421T180247Z
UID:3ca8c1e39292c656f312529f62cf1932@project_zeoclients
CREATED;VALUE=DATE-TIME:20210321T215522Z
LAST-MODIFIED;VALUE=DATE-TIME:20210321T215522Z
LOCATION:A412 (enter through the library on the third floor)\, Elizabeth W
 irth Music Building\, 527 Sherbrooke St W
URL:https://www.cirmmt.org/en/events/workshops/meetings/ra-3-general-meeti
 ng-231117
END:VEVENT
BEGIN:VTIMEZONE
TZID:America/Montreal
X-LIC-LOCATION:America/Montreal
BEGIN:STANDARD
DTSTART;VALUE=DATE-TIME:20171105T010000
TZNAME:EST
TZOFFSETFROM:-0400
TZOFFSETTO:-0500
END:STANDARD
END:VTIMEZONE
END:VCALENDAR
