BEGIN:VCALENDAR
VERSION:2.0
PRODID:-//Plone.org//NONSGML plone.app.event//EN
X-WR-TIMEZONE:America/Toronto
BEGIN:VEVENT
SUMMARY:Sound modeling\, acoustics and signal processing (RA1) axis meetin
 g
DTSTART;TZID=America/Montreal;VALUE=DATE-TIME:20121003T120000
DTEND;TZID=America/Montreal;VALUE=DATE-TIME:20121003T130000
DTSTAMP;VALUE=DATE-TIME:20260421T232320Z
UID:f07e706765a869766ce8e07f669bd801@project_zeoclients
CREATED;VALUE=DATE-TIME:20210321T215523Z
DESCRIPTION:Research Axis 1 will hold a general meeting on Wednesday\, Oct
 ober 3rd\, from 12:00pm.
LAST-MODIFIED;VALUE=DATE-TIME:20210321T215523Z
LOCATION:A807 (CIRMMT Conference Room)\, New Music Building\, 527 Sherbroo
 ke St. West.
URL:https://www.cirmmt.org/en/events/workshops/meetings/ra1-121003
END:VEVENT
BEGIN:VTIMEZONE
TZID:America/Montreal
X-LIC-LOCATION:America/Montreal
BEGIN:DAYLIGHT
DTSTART;VALUE=DATE-TIME:20120311T030000
TZNAME:EDT
TZOFFSETFROM:-0500
TZOFFSETTO:-0400
END:DAYLIGHT
END:VTIMEZONE
END:VCALENDAR
