BEGIN:VCALENDAR
VERSION:2.0
PRODID:-//Plone.org//NONSGML plone.app.event//EN
X-WR-TIMEZONE:America/Toronto
BEGIN:VEVENT
SUMMARY:Research Axis 1 (Instruments\, devices\, and systems) General Meet
 ing 2022
DTSTART;TZID=America/Toronto;VALUE=DATE-TIME:20221004T120000
DTEND;TZID=America/Toronto;VALUE=DATE-TIME:20221004T130000
DTSTAMP;VALUE=DATE-TIME:20260421T123541Z
UID:ada9a319ba69420fb862b15ea98e9332@project_zeoclients
CONTACT:info[AT]cirmmt.org
CREATED;VALUE=DATE-TIME:20220921T155430Z
DESCRIPTION:All CIRMMT researchers and student members interested in RA1 a
 ctivities are welcome to attend\, as are prospective student members who'd
  like to get involved in 2022-2023.
LAST-MODIFIED;VALUE=DATE-TIME:20220921T160709Z
LOCATION:A-832 (8th floor)\, 527 Rue Sherbrooke O.
URL:https://www.cirmmt.org/en/events/workshops/meetings/ra1-general-meetin
 g-2022
END:VEVENT
BEGIN:VTIMEZONE
TZID:America/Toronto
X-LIC-LOCATION:America/Toronto
BEGIN:DAYLIGHT
DTSTART;VALUE=DATE-TIME:20220313T030000
TZNAME:EDT
TZOFFSETFROM:-0500
TZOFFSETTO:-0400
END:DAYLIGHT
END:VTIMEZONE
END:VCALENDAR
