BEGIN:VCALENDAR
VERSION:2.0
PRODID:-//Plone.org//NONSGML plone.app.event//EN
X-WR-TIMEZONE:America/Toronto
BEGIN:VEVENT
SUMMARY:Research Axis 1 (Instruments\, devices\, and systems) General Meet
 ing 2023
DTSTART;TZID=America/Toronto;VALUE=DATE-TIME:20231011T140000
DTEND;TZID=America/Toronto;VALUE=DATE-TIME:20231011T150000
DTSTAMP;VALUE=DATE-TIME:20260421T081853Z
UID:f0229d5bf7824871952e5049128f6e1b@project_zeoclients
CONTACT:RA1 Student Coordiantor\, xinyi.zhang.1@ens.etsmtl.ca
CREATED;VALUE=DATE-TIME:20231006T174521Z
DESCRIPTION:All CIRMMT researchers and student members interested in RA1 a
 ctivities are welcome to attend\, as are prospective student members who'd
  like to get involved in 2023-2024.
LAST-MODIFIED;VALUE=DATE-TIME:20231006T180258Z
LOCATION:A-832\, 8th floor\, Elizabeth Wirth Music Building\, 527 Sherbroo
 ke O.
URL:https://www.cirmmt.org/en/events/workshops/meetings/ra1_meeting-oct_23
END:VEVENT
BEGIN:VTIMEZONE
TZID:America/Toronto
X-LIC-LOCATION:America/Toronto
BEGIN:DAYLIGHT
DTSTART;VALUE=DATE-TIME:20230312T030000
TZNAME:EDT
TZOFFSETFROM:-0500
TZOFFSETTO:-0400
END:DAYLIGHT
END:VTIMEZONE
END:VCALENDAR
