BEGIN:VCALENDAR
VERSION:2.0
PRODID:-//Plone.org//NONSGML plone.app.event//EN
X-WR-TIMEZONE:America/Toronto
BEGIN:VEVENT
SUMMARY:Research Axis 1 (Instruments\, devices\, and systems) General Meet
 ing 2019
DTSTART;TZID=America/Montreal;VALUE=DATE-TIME:20191002T120000
DTEND;TZID=America/Montreal;VALUE=DATE-TIME:20191002T130000
DTSTAMP;VALUE=DATE-TIME:20260421T151224Z
UID:dc1f18dca1ebde32251cd83d31fdc385@project_zeoclients
CREATED;VALUE=DATE-TIME:20210321T215523Z
DESCRIPTION:All CIRMMT researchers and student members interested in RA1 a
 ctivities are welcome to attend\, as are prospective student members who'd
  like to get involved in 2019-20. 
LAST-MODIFIED;VALUE=DATE-TIME:20210321T215523Z
LOCATION:A832\, Elizabeth Wirth Music Building\, 527 Sherbrooke St W
URL:https://www.cirmmt.org/en/events/workshops/meetings/ra1meeting-2019100
 2
END:VEVENT
BEGIN:VTIMEZONE
TZID:America/Montreal
X-LIC-LOCATION:America/Montreal
BEGIN:DAYLIGHT
DTSTART;VALUE=DATE-TIME:20190310T030000
TZNAME:EDT
TZOFFSETFROM:-0500
TZOFFSETTO:-0400
END:DAYLIGHT
END:VTIMEZONE
END:VCALENDAR
