BEGIN:VCALENDAR
VERSION:2.0
PRODID:-//Plone.org//NONSGML plone.app.event//EN
X-WR-TIMEZONE:America/Toronto
BEGIN:VEVENT
SUMMARY:[ONLINE] Research Axis 1 (Instruments\, devices\, and systems) Gen
 eral Meeting 2020
DTSTART;TZID=America/Montreal;VALUE=DATE-TIME:20201016T120000
DTEND;TZID=America/Montreal;VALUE=DATE-TIME:20201016T130000
DTSTAMP;VALUE=DATE-TIME:20260421T145658Z
UID:3171d0b57dd6455583336346bfc2ebc9@project_zeoclients
CREATED;VALUE=DATE-TIME:20210321T215524Z
DESCRIPTION:All CIRMMT researchers and student members interested in RA1 a
 ctivities are welcome to attend\, as are prospective student members who'd
  like to get involved in 2020-21. 
LAST-MODIFIED;VALUE=DATE-TIME:20210321T215524Z
LOCATION:Online (Zoom)
URL:https://www.cirmmt.org/en/events/workshops/meetings/ra1meeting-2020
END:VEVENT
BEGIN:VTIMEZONE
TZID:America/Montreal
X-LIC-LOCATION:America/Montreal
BEGIN:DAYLIGHT
DTSTART;VALUE=DATE-TIME:20200308T030000
TZNAME:EDT
TZOFFSETFROM:-0500
TZOFFSETTO:-0400
END:DAYLIGHT
END:VTIMEZONE
END:VCALENDAR
