BEGIN:VCALENDAR
VERSION:2.0
PRODID:-//Plone.org//NONSGML plone.app.event//EN
X-WR-TIMEZONE:America/Toronto
BEGIN:VEVENT
SUMMARY:[ONLINE] Research Axis 2 (Music information research) General Meet
 ing 2020
DTSTART;TZID=America/Montreal;VALUE=DATE-TIME:20201111T170000
DTEND;TZID=America/Montreal;VALUE=DATE-TIME:20201111T180000
DTSTAMP;VALUE=DATE-TIME:20260421T151224Z
UID:608d1fda6b544db3ace2daf340dc429c@project_zeoclients
CREATED;VALUE=DATE-TIME:20210321T215525Z
DESCRIPTION:All CIRMMT researchers and student members interested in RA2 a
 ctivities are welcome to attend\, as are prospective student members who'd
  like to get involved in 2020-21.
LAST-MODIFIED;VALUE=DATE-TIME:20210321T215525Z
LOCATION:Zoom
URL:https://www.cirmmt.org/en/events/workshops/meetings/ra2-general-meetin
 g-2020
END:VEVENT
BEGIN:VTIMEZONE
TZID:America/Montreal
X-LIC-LOCATION:America/Montreal
BEGIN:STANDARD
DTSTART;VALUE=DATE-TIME:20201101T010000
TZNAME:EST
TZOFFSETFROM:-0400
TZOFFSETTO:-0500
END:STANDARD
END:VTIMEZONE
END:VCALENDAR
