BEGIN:VCALENDAR
VERSION:2.0
PRODID:-//Plone.org//NONSGML plone.app.event//EN
X-WR-TIMEZONE:America/Toronto
BEGIN:VEVENT
SUMMARY:RA3 General Meeting 2022
DTSTART;TZID=America/Toronto;VALUE=DATE-TIME:20220419T160000
DTEND;TZID=America/Toronto;VALUE=DATE-TIME:20220419T170000
DTSTAMP;VALUE=DATE-TIME:20260421T134505Z
UID:eba1eff32a8e4ab1afccc688cdf6aea6@project_zeoclients
CONTACT:cirmmt.info [AT] mcgill.ca
CREATED;VALUE=DATE-TIME:20220407T160212Z
DESCRIPTION:General meeting for CIRMMT's Research Axis 3 (Cognition\, Perc
 eption and Movement)
LAST-MODIFIED;VALUE=DATE-TIME:20260326T215331Z
LOCATION:Online [Zoom link below]
URL:https://www.cirmmt.org/en/events/workshops/meetings/ra3-general-meetin
 g-2022
END:VEVENT
BEGIN:VTIMEZONE
TZID:America/Toronto
X-LIC-LOCATION:America/Toronto
BEGIN:DAYLIGHT
DTSTART;VALUE=DATE-TIME:20220313T030000
TZNAME:EDT
TZOFFSETFROM:-0500
TZOFFSETTO:-0400
END:DAYLIGHT
END:VTIMEZONE
END:VCALENDAR
