BEGIN:VCALENDAR
VERSION:2.0
PRODID:-//Plone.org//NONSGML plone.app.event//EN
X-WR-TIMEZONE:America/Toronto
BEGIN:VEVENT
SUMMARY:RA3 Special General Meeting
DTSTART;TZID=America/Toronto;VALUE=DATE-TIME:20251121T113000
DTEND;TZID=America/Toronto;VALUE=DATE-TIME:20251121T123000
DTSTAMP;VALUE=DATE-TIME:20260421T064909Z
UID:f5a727b3205545a0bf7b7731e6acf73c@project_zeoclients
CONTACT:info [AT] cirmmt (DOT] org
CREATED;VALUE=DATE-TIME:20251120T155641Z
DESCRIPTION:General meeting for CIRMMT's Research Axis 3 (Cognition\, perc
 eption & movement)
LAST-MODIFIED;VALUE=DATE-TIME:20251120T165047Z
LOCATION:A412 Library Seminar Room (4 floor)\, Elizabeth Wirth Music Build
 ing\, 527 Sherbrooke O
URL:https://www.cirmmt.org/en/events/workshops/meetings/ra3-gm-2025-2026
END:VEVENT
BEGIN:VTIMEZONE
TZID:America/Toronto
X-LIC-LOCATION:America/Toronto
BEGIN:STANDARD
DTSTART;VALUE=DATE-TIME:20251102T010000
TZNAME:EST
TZOFFSETFROM:-0400
TZOFFSETTO:-0500
END:STANDARD
END:VTIMEZONE
END:VCALENDAR
