BEGIN:VCALENDAR
VERSION:2.0
PRODID:-//Plone.org//NONSGML plone.app.event//EN
X-WR-TIMEZONE:America/Toronto
BEGIN:VEVENT
SUMMARY:Research Axis 3 (Cognition perception & movement) General Meeting 
 2025
DTSTART;TZID=America/Toronto;VALUE=DATE-TIME:20250527T173000
DTEND;TZID=America/Toronto;VALUE=DATE-TIME:20250527T190000
DTSTAMP;VALUE=DATE-TIME:20260421T123338Z
UID:81d97b33e8be4bd58ee7d8063b11881f@project_zeoclients
CONTACT:info [AT] cirmmt [DOT] org
CREATED;VALUE=DATE-TIME:20250523T185711Z
DESCRIPTION:All CIRMMT researchers and student members interested in RA3 a
 ctivities are welcome to attend\, as are prospective student members who'd
  like to get involved in 2025–2026.
LAST-MODIFIED;VALUE=DATE-TIME:20250523T195502Z
LOCATION:A832 (8 floor)\, Elizabeth Wirth Music Building\, 527 Sherbrooke 
 O
URL:https://www.cirmmt.org/en/events/workshops/meetings/ra3-gm-2025
END:VEVENT
BEGIN:VTIMEZONE
TZID:America/Toronto
X-LIC-LOCATION:America/Toronto
BEGIN:DAYLIGHT
DTSTART;VALUE=DATE-TIME:20250309T030000
TZNAME:EDT
TZOFFSETFROM:-0500
TZOFFSETTO:-0400
END:DAYLIGHT
END:VTIMEZONE
END:VCALENDAR
