BEGIN:VCALENDAR
VERSION:2.0
PRODID:-//Plone.org//NONSGML plone.app.event//EN
X-WR-TIMEZONE:America/Toronto
BEGIN:VEVENT
SUMMARY:CIRMMT's Research Axis (RA) 3 General Meeting 2023
DTSTART;TZID=America/Toronto;VALUE=DATE-TIME:20230525T150000
DTEND;TZID=America/Toronto;VALUE=DATE-TIME:20230525T160000
DTSTAMP;VALUE=DATE-TIME:20260421T123338Z
UID:6729403f380841c6bf241370077d1792@project_zeoclients
CREATED;VALUE=DATE-TIME:20230519T183726Z
LAST-MODIFIED;VALUE=DATE-TIME:20230519T203622Z
LOCATION:Wirth Opera Studio\, 527 Sherbrooke St W\, Montreal\, QC H3A 1E3
URL:https://www.cirmmt.org/en/events/workshops/meetings/ra3meeting23
END:VEVENT
BEGIN:VTIMEZONE
TZID:America/Toronto
X-LIC-LOCATION:America/Toronto
BEGIN:DAYLIGHT
DTSTART;VALUE=DATE-TIME:20230312T030000
TZNAME:EDT
TZOFFSETFROM:-0500
TZOFFSETTO:-0400
END:DAYLIGHT
END:VTIMEZONE
END:VCALENDAR
