BEGIN:VCALENDAR
VERSION:2.0
PRODID:-//Plone.org//NONSGML plone.app.event//EN
X-WR-TIMEZONE:America/Toronto
BEGIN:VEVENT
SUMMARY:Research Axis 4 (Expanded musical practice) General Meeting 2024
DTSTART;TZID=America/Toronto;VALUE=DATE-TIME:20241206T153000
DTEND;TZID=America/Toronto;VALUE=DATE-TIME:20241206T170000
DTSTAMP;VALUE=DATE-TIME:20260421T112910Z
UID:dc9e83ddd5a94d44b4b25460f4c93363@project_zeoclients
CONTACT:info[AT]cirmmt[DOT]org
CREATED;VALUE=DATE-TIME:20241126T151758Z
DESCRIPTION:All CIRMMT researchers and student members interested in RA4 a
 ctivities are welcome to attend\, as are prospective student members who'd
  like to get involved in 2024–2025.
LAST-MODIFIED;VALUE=DATE-TIME:20241126T161147Z
LOCATION:B-187 (main floor)\, Faculty of Music\, Université de Montréal\
 , 200 avenue Vincent-d'Indy
URL:https://www.cirmmt.org/en/events/workshops/meetings/ra4-general-2024
END:VEVENT
BEGIN:VTIMEZONE
TZID:America/Toronto
X-LIC-LOCATION:America/Toronto
BEGIN:STANDARD
DTSTART;VALUE=DATE-TIME:20241103T010000
TZNAME:EST
TZOFFSETFROM:-0400
TZOFFSETTO:-0500
END:STANDARD
END:VTIMEZONE
END:VCALENDAR
