BEGIN:VCALENDAR
VERSION:2.0
PRODID:-//Plone.org//NONSGML plone.app.event//EN
X-WR-TIMEZONE:America/Toronto
BEGIN:VEVENT
SUMMARY:RA4 General Meeting 2025
DTSTART;TZID=America/Toronto;VALUE=DATE-TIME:20251114T100000
DTEND;TZID=America/Toronto;VALUE=DATE-TIME:20251114T113000
DTSTAMP;VALUE=DATE-TIME:20260421T070739Z
UID:7083ce1717df4650aa27c17f6a746df8@project_zeoclients
CONTACT:info [AT] cirmmt (DOT] org
CREATED;VALUE=DATE-TIME:20251112T153551Z
DESCRIPTION:General meeting for CIRMMT's Research Axis 4 (Expanded musical
  practice)
LAST-MODIFIED;VALUE=DATE-TIME:20251112T160033Z
LOCATION:A832 (8 floor)\, Elizabeth Wirth Music Building\, 527 Sherbrooke 
 O
URL:https://www.cirmmt.org/en/events/workshops/meetings/ra4-general-2025-2
 6
END:VEVENT
BEGIN:VTIMEZONE
TZID:America/Toronto
X-LIC-LOCATION:America/Toronto
BEGIN:STANDARD
DTSTART;VALUE=DATE-TIME:20251102T010000
TZNAME:EST
TZOFFSETFROM:-0400
TZOFFSETTO:-0500
END:STANDARD
END:VTIMEZONE
END:VCALENDAR
