BEGIN:VCALENDAR
VERSION:2.0
PRODID:-//Plone.org//NONSGML plone.app.event//EN
X-WR-TIMEZONE:America/Toronto
BEGIN:VEVENT
SUMMARY:Research Axis 4 (Expanded musical practice) General Meeting 2022
DTSTART;TZID=America/Toronto;VALUE=DATE-TIME:20220914T173000
DTEND;TZID=America/Toronto;VALUE=DATE-TIME:20220914T183000
DTSTAMP;VALUE=DATE-TIME:20260421T134505Z
UID:ef769c3bd5fc443691df9a54a3139fce@project_zeoclients
CONTACT:info[AT]cirmmt.org
CREATED;VALUE=DATE-TIME:20220912T154551Z
DESCRIPTION:All CIRMMT researchers and student members interested in RA4 a
 ctivities are welcome to attend\, as are prospective student members who'd
  like to get involved in 2022-2023.
LAST-MODIFIED;VALUE=DATE-TIME:20220912T155429Z
LOCATION:A-832\, 527 Rue Sherbrooke O.
URL:https://www.cirmmt.org/en/events/workshops/meetings/ra4-general-meetin
 g-2022
END:VEVENT
BEGIN:VTIMEZONE
TZID:America/Toronto
X-LIC-LOCATION:America/Toronto
BEGIN:DAYLIGHT
DTSTART;VALUE=DATE-TIME:20220313T030000
TZNAME:EDT
TZOFFSETFROM:-0500
TZOFFSETTO:-0400
END:DAYLIGHT
END:VTIMEZONE
END:VCALENDAR
