BEGIN:VCALENDAR
VERSION:2.0
PRODID:-//Plone.org//NONSGML plone.app.event//EN
X-WR-TIMEZONE:America/Toronto
BEGIN:VEVENT
SUMMARY:Research Axis 2 General Meeting
DTSTART;TZID=America/Toronto;VALUE=DATE-TIME:20240123T120000
DTEND;TZID=America/Toronto;VALUE=DATE-TIME:20240123T133000
DTSTAMP;VALUE=DATE-TIME:20260421T081957Z
UID:c485ab823d544c8fa64980ae8dfcd3b7@project_zeoclients
CONTACT:Cory McKay\, cory.mckay@mail.mcgill.ca
CREATED;VALUE=DATE-TIME:20240116T155517Z
DESCRIPTION:All CIRMMT researchers and student members interested in RA2 a
 ctivities (Music Information Research) are welcome to attend\, as are pros
 pective student members who'd like to get involved in 2023-2024.
LAST-MODIFIED;VALUE=DATE-TIME:20240116T163120Z
LOCATION:A-807 (8th floor)\, CIRMMT\, Pavillon de la musique Elizabeth Wir
 th\, 527 rue Sherbrooke O.
URL:https://www.cirmmt.org/en/events/workshops/meetings/ra_2-meeting-jan24
END:VEVENT
BEGIN:VTIMEZONE
TZID:America/Toronto
X-LIC-LOCATION:America/Toronto
BEGIN:STANDARD
DTSTART;VALUE=DATE-TIME:20231105T010000
TZNAME:EST
TZOFFSETFROM:-0400
TZOFFSETTO:-0500
END:STANDARD
END:VTIMEZONE
END:VCALENDAR
