BEGIN:VCALENDAR
VERSION:2.0
PRODID:-//Plone.org//NONSGML plone.app.event//EN
X-WR-TIMEZONE:America/Toronto
BEGIN:VEVENT
SUMMARY:Workshop on rhythm in speech and music
DTSTART;TZID=America/Montreal;VALUE=DATE-TIME:20110421T110000
DTEND;TZID=America/Montreal;VALUE=DATE-TIME:20110421T153000
DTSTAMP;VALUE=DATE-TIME:20260422T003034Z
UID:60263685a3e2e8505fb23ddfe08c4581@project_zeoclients
CREATED;VALUE=DATE-TIME:20220210T004215Z
DESCRIPTION:This workshop is organized by CIRMMT Research Axis 5 (Music Pe
 rception and Cognition) in collaboration with the Centre for Research in L
 anguage\, Mind and Brain (CRLMB).  It will take place on April 21\, 2011\,
  from 10:00am-2:30pm in A832 (New Music Building).
LAST-MODIFIED;VALUE=DATE-TIME:20220211T185058Z
LOCATION:A832 & A833\, New Music Building\, 527 Sherbrooke St. West. 
URL:https://www.cirmmt.org/en/events/workshops/meetings/rhythm
END:VEVENT
BEGIN:VTIMEZONE
TZID:America/Montreal
X-LIC-LOCATION:America/Montreal
BEGIN:DAYLIGHT
DTSTART;VALUE=DATE-TIME:20110313T030000
TZNAME:EDT
TZOFFSETFROM:-0500
TZOFFSETTO:-0400
END:DAYLIGHT
END:VTIMEZONE
END:VCALENDAR
