BEGIN:VCALENDAR
VERSION:2.0
PRODID:-//Plone.org//NONSGML plone.app.event//EN
X-WR-TIMEZONE:America/Toronto
BEGIN:VEVENT
SUMMARY:Workshop on sensorimotor integration: Embodiment in movement\, mus
 ic\, and speech
DTSTART;TZID=America/Montreal;VALUE=DATE-TIME:20150213T093000
DTEND;TZID=America/Montreal;VALUE=DATE-TIME:20150213T180000
DTSTAMP;VALUE=DATE-TIME:20260421T203258Z
UID:c4308f7625f07c0a338377dab2ba1414@project_zeoclients
CREATED;VALUE=DATE-TIME:20220210T004206Z
DESCRIPTION:This workshop is organized by CIRMMT Research Axis 3 (Cognitio
 n\, perception and movement). It will take place on February 13th\, 2015\,
  in A832 (New Music Building). This workshop is free and open to all. Regi
 stration is required. \n\n\n
LAST-MODIFIED;VALUE=DATE-TIME:20220211T185057Z
LOCATION:A832 & A833\, New Music Building\, 527 Sherbrooke St. West.
URL:https://www.cirmmt.org/en/events/workshops/meetings/sensorimotor-integ
 ration
END:VEVENT
BEGIN:VTIMEZONE
TZID:America/Montreal
X-LIC-LOCATION:America/Montreal
BEGIN:STANDARD
DTSTART;VALUE=DATE-TIME:20141102T010000
TZNAME:EST
TZOFFSETFROM:-0400
TZOFFSETTO:-0500
END:STANDARD
END:VTIMEZONE
END:VCALENDAR
