BEGIN:VCALENDAR
VERSION:2.0
PRODID:-//Plone.org//NONSGML plone.app.event//EN
X-WR-TIMEZONE:America/Toronto
BEGIN:VEVENT
SUMMARY:Acoustics of Single-Reed Wind Instruments: A Workshop for Musician
 s and Researchers
DTSTART;TZID=America/Montreal;VALUE=DATE-TIME:20090318T140000
DTEND;TZID=America/Montreal;VALUE=DATE-TIME:20090318T180000
DTSTAMP;VALUE=DATE-TIME:20260422T033132Z
UID:63f3bc4e60c74916d5d546e34f67dbd6@project_zeoclients
CREATED;VALUE=DATE-TIME:20220210T004217Z
DESCRIPTION:This workshop is organized by CIRMMT Research Axis 1 (sound mo
 deling\, acoustics and signal processing).  It will take place on March 18
 \, 2009 at  McGill University (A832\, New Music Building\, 527 Sherbrooke 
 St. West).  Registration is free.
LAST-MODIFIED;VALUE=DATE-TIME:20220211T185058Z
LOCATION:A832\, New Music Building\, McGill University (enter via 555 Sher
 brooke St. West)
URL:https://www.cirmmt.org/en/events/workshops/meetings/single-reed-acoust
 ics
END:VEVENT
BEGIN:VTIMEZONE
TZID:America/Montreal
X-LIC-LOCATION:America/Montreal
BEGIN:DAYLIGHT
DTSTART;VALUE=DATE-TIME:20090308T030000
TZNAME:EDT
TZOFFSETFROM:-0500
TZOFFSETTO:-0400
END:DAYLIGHT
END:VTIMEZONE
END:VCALENDAR
