BEGIN:VCALENDAR
VERSION:2.0
PRODID:-//Plone.org//NONSGML plone.app.event//EN
X-WR-TIMEZONE:America/Toronto
BEGIN:VEVENT
SUMMARY:Workshop on "l'espace du son"
DTSTART;TZID=America/Montreal;VALUE=DATE-TIME:20140124T130000
DTEND;TZID=America/Montreal;VALUE=DATE-TIME:20140124T180000
DTSTAMP;VALUE=DATE-TIME:20260421T204408Z
UID:c3dd3e2f759474dd93236ce111d825a3@project_zeoclients
CREATED;VALUE=DATE-TIME:20220210T004208Z
DESCRIPTION:This workshop is organized by CIRMMT Research Axis 6 (Expanded
  Musical Practice). It will take place on Friday\, January 24\, 2014\, in 
 Studio MultiPistes B-187\, Electroacoustic Music department (located on th
 e first floor)\, Faculté de musique de l’Université de Montréal\, 200
 \, avenue Vincent-d’Indy. This workshop is free and open to all. Registr
 ation is required. 
LAST-MODIFIED;VALUE=DATE-TIME:20220211T185057Z
LOCATION:Studio MultiPistes B-187\, Université de Montréal
URL:https://www.cirmmt.org/en/events/workshops/meetings/smalley
END:VEVENT
BEGIN:VTIMEZONE
TZID:America/Montreal
X-LIC-LOCATION:America/Montreal
BEGIN:STANDARD
DTSTART;VALUE=DATE-TIME:20131103T010000
TZNAME:EST
TZOFFSETFROM:-0400
TZOFFSETTO:-0500
END:STANDARD
END:VTIMEZONE
END:VCALENDAR
