BEGIN:VCALENDAR
VERSION:2.0
PRODID:-//Plone.org//NONSGML plone.app.event//EN
X-WR-TIMEZONE:America/Toronto
BEGIN:VEVENT
SUMMARY:Workshop on the spatialization of sound in mixed works: a case stu
 dy with Sixtrum Percussion Ensemble
DTSTART;TZID=America/Montreal;VALUE=DATE-TIME:20121220T133000
DTEND;TZID=America/Montreal;VALUE=DATE-TIME:20121220T163000
DTSTAMP;VALUE=DATE-TIME:20260421T220447Z
UID:ffc1fbef451becc54dafb3676e76074a@project_zeoclients
CREATED;VALUE=DATE-TIME:20220210T004232Z
DESCRIPTION:This workshop is organized by CIRMMT Research Axis 6 (Expanded
  musical practice). It will take place on December 20th\, in the Multimedi
 a Room (New Music Building). This workshop is free and open to all. Regist
 ration is required. \n
LAST-MODIFIED;VALUE=DATE-TIME:20220211T185238Z
LOCATION:MMR\, New Music Building\, 527 Sherbrooke St. West.
URL:https://www.cirmmt.org/en/events/workshops/meetings/spatialization-six
 trum
END:VEVENT
BEGIN:VTIMEZONE
TZID:America/Montreal
X-LIC-LOCATION:America/Montreal
BEGIN:STANDARD
DTSTART;VALUE=DATE-TIME:20121104T010000
TZNAME:EST
TZOFFSETFROM:-0400
TZOFFSETTO:-0500
END:STANDARD
END:VTIMEZONE
END:VCALENDAR
