BEGIN:VCALENDAR
VERSION:2.0
PRODID:-//Plone.org//NONSGML plone.app.event//EN
X-WR-TIMEZONE:America/Toronto
BEGIN:VEVENT
SUMMARY:Workshop on Spatialization
DTSTART;TZID=America/Montreal;VALUE=DATE-TIME:20090215T130000
DTEND;TZID=America/Montreal;VALUE=DATE-TIME:20090215T183000
DTSTAMP;VALUE=DATE-TIME:20260422T030300Z
UID:11ae2f552f60214b76efab68cc614720@project_zeoclients
CREATED;VALUE=DATE-TIME:20220210T004218Z
DESCRIPTION:This workshop is organized by CIRMMT Research Axis 6 (Expanded
  Musical Practice).  It will take place at l'Université de Montréal on S
 unday\, February 15 2009.  Registration is free.
LAST-MODIFIED;VALUE=DATE-TIME:20220211T185059Z
LOCATION:Room B-187\, Faculté de musique\, Université de Montréal\, 200
  Vincent-D'Indy (métro Edouard-Montpetit)
URL:https://www.cirmmt.org/en/events/workshops/meetings/spatialization
END:VEVENT
BEGIN:VTIMEZONE
TZID:America/Montreal
X-LIC-LOCATION:America/Montreal
BEGIN:STANDARD
DTSTART;VALUE=DATE-TIME:20081102T010000
TZNAME:EST
TZOFFSETFROM:-0400
TZOFFSETTO:-0500
END:STANDARD
END:VTIMEZONE
END:VCALENDAR
