BEGIN:VCALENDAR
VERSION:2.0
PRODID:-//Plone.org//NONSGML plone.app.event//EN
X-WR-TIMEZONE:America/Toronto
BEGIN:VEVENT
SUMMARY:String Instrument Workshop
DTSTART;TZID=America/Montreal;VALUE=DATE-TIME:20080515T150000
DTEND;TZID=America/Montreal;VALUE=DATE-TIME:20080515T180000
DTSTAMP;VALUE=DATE-TIME:20260422T030349Z
UID:a5123aa475e114a5dcde0d4a1124d2c2@project_zeoclients
CREATED;VALUE=DATE-TIME:20220210T004231Z
DESCRIPTION:This workshop is organized by the student coordinators of CIRM
 MT RA1 (SMASP axis).  It will take place on May 15th\, 2008 at  McGill Uni
 versity (A832\, New Music Building\, 527 Sherbrooke St. West). 
LAST-MODIFIED;VALUE=DATE-TIME:20220211T185238Z
LOCATION:A832\, New Music Building\, McGill University (enter via 555 Sher
 brooke St. West)
URL:https://www.cirmmt.org/en/events/workshops/meetings/string-instruments
END:VEVENT
BEGIN:VTIMEZONE
TZID:America/Montreal
X-LIC-LOCATION:America/Montreal
BEGIN:DAYLIGHT
DTSTART;VALUE=DATE-TIME:20080309T030000
TZNAME:EDT
TZOFFSETFROM:-0500
TZOFFSETTO:-0400
END:DAYLIGHT
END:VTIMEZONE
END:VCALENDAR
