BEGIN:VCALENDAR
VERSION:2.0
PRODID:-//Plone.org//NONSGML plone.app.event//EN
X-WR-TIMEZONE:America/Toronto
BEGIN:VEVENT
SUMMARY:Workshop on Structural Analysis of Music
DTSTART;TZID=America/Montreal;VALUE=DATE-TIME:20100326T140000
DTEND;TZID=America/Montreal;VALUE=DATE-TIME:20100326T180000
DTSTAMP;VALUE=DATE-TIME:20260422T013903Z
UID:048259e291a4f6331242f24b6f2d8a9b@project_zeoclients
CREATED;VALUE=DATE-TIME:20220210T004231Z
DESCRIPTION:This workshop is organized by CIRMMT Research Axis 3 (Musical 
 Information Archiving and Retrieval).\nIt will take place on March 26\, 20
 10 at 1pm. This workshop is free and open to all. \n\n
LAST-MODIFIED;VALUE=DATE-TIME:20220211T185238Z
LOCATION:(A832\, New Music Building\, 527 Sherbrooke St. West. Enter via 5
 55 Sherbrooke St. West.
URL:https://www.cirmmt.org/en/events/workshops/meetings/structural-analysi
 s
END:VEVENT
BEGIN:VTIMEZONE
TZID:America/Montreal
X-LIC-LOCATION:America/Montreal
BEGIN:DAYLIGHT
DTSTART;VALUE=DATE-TIME:20100314T030000
TZNAME:EDT
TZOFFSETFROM:-0500
TZOFFSETTO:-0400
END:DAYLIGHT
END:VTIMEZONE
END:VCALENDAR
