BEGIN:VCALENDAR
VERSION:2.0
PRODID:-//Plone.org//NONSGML plone.app.event//EN
X-WR-TIMEZONE:America/Toronto
BEGIN:VEVENT
SUMMARY:CIRMMT Student Awards tip & assist workshop
DTSTART;TZID=America/Montreal;VALUE=DATE-TIME:20190118T150000
DTEND;TZID=America/Montreal;VALUE=DATE-TIME:20190118T170000
DTSTAMP;VALUE=DATE-TIME:20260421T164706Z
UID:b34f9c94a7ae42ea143b43e573a290cb@project_zeoclients
CREATED;VALUE=DATE-TIME:20210321T215527Z
DESCRIPTION:This workshop will provide a few tips and ideas for students w
 ho wish to apply for the CIRMMT Student Award.
LAST-MODIFIED;VALUE=DATE-TIME:20210321T215527Z
LOCATION:A832\, Elizabeth Wirth Music Building\, 527 Sherbrooke St W
URL:https://www.cirmmt.org/en/events/workshops/meetings/student-award-assi
 st
END:VEVENT
BEGIN:VTIMEZONE
TZID:America/Montreal
X-LIC-LOCATION:America/Montreal
BEGIN:STANDARD
DTSTART;VALUE=DATE-TIME:20181104T010000
TZNAME:EST
TZOFFSETFROM:-0400
TZOFFSETTO:-0500
END:STANDARD
END:VTIMEZONE
END:VCALENDAR
