BEGIN:VCALENDAR
VERSION:2.0
PRODID:-//Plone.org//NONSGML plone.app.event//EN
X-WR-TIMEZONE:America/Toronto
BEGIN:VEVENT
SUMMARY:CIRMMT Student Member Orientation Meeting
DTSTART;TZID=America/Montreal;VALUE=DATE-TIME:20190925T170000
DTEND;TZID=America/Montreal;VALUE=DATE-TIME:20190925T190000
DTSTAMP;VALUE=DATE-TIME:20260421T162907Z
UID:30b36bfec742d9066d93063b862d6106@project_zeoclients
CREATED;VALUE=DATE-TIME:20210321T215528Z
DESCRIPTION:This meeting welcomes new student members as well as those who
  want a refresher on the facilities and resources available at CIRMMT.
LAST-MODIFIED;VALUE=DATE-TIME:20210321T215528Z
LOCATION:A832/A833\, Elizabeth Wirth Music Building\, 527 Sherbrooke St W
URL:https://www.cirmmt.org/en/events/workshops/meetings/student-meeting201
 9
END:VEVENT
BEGIN:VTIMEZONE
TZID:America/Montreal
X-LIC-LOCATION:America/Montreal
BEGIN:DAYLIGHT
DTSTART;VALUE=DATE-TIME:20190310T030000
TZNAME:EDT
TZOFFSETFROM:-0500
TZOFFSETTO:-0400
END:DAYLIGHT
END:VTIMEZONE
END:VCALENDAR
