BEGIN:VCALENDAR
VERSION:2.0
PRODID:-//Plone.org//NONSGML plone.app.event//EN
X-WR-TIMEZONE:America/Toronto
BEGIN:VEVENT
SUMMARY:Workshop on body tracking in challenging environments
DTSTART;TZID=America/Montreal;VALUE=DATE-TIME:20100923T100000
DTEND;TZID=America/Montreal;VALUE=DATE-TIME:20100923T170000
DTSTAMP;VALUE=DATE-TIME:20260421T054426Z
UID:180ae6506481445a3da3bdf1328bb743@project_zeoclients
CREATED;VALUE=DATE-TIME:20220210T004224Z
DESCRIPTION:This workshop is organized by CIRMMT Research Axis 4 (Multimod
 al immersive systems) and the Institut Arts Cultures et Technologies (iACT
 ). It will take place on September 23\, 2010 at the University of Montreal
 .  This workshop is free and open to all.  Registration is required. \n\n\
 n
LAST-MODIFIED;VALUE=DATE-TIME:20220211T185237Z
LOCATION:Université de Montréal\, Faculté de musique\, 200 avenue Vince
 nt-d'Indy\, Room B-187 (under the music library)
URL:https://www.cirmmt.org/en/events/workshops/meetings/tracking
END:VEVENT
BEGIN:VTIMEZONE
TZID:America/Montreal
X-LIC-LOCATION:America/Montreal
BEGIN:DAYLIGHT
DTSTART;VALUE=DATE-TIME:20100314T030000
TZNAME:EDT
TZOFFSETFROM:-0500
TZOFFSETTO:-0400
END:DAYLIGHT
END:VTIMEZONE
END:VCALENDAR
