BEGIN:VCALENDAR
VERSION:2.0
PRODID:-//Plone.org//NONSGML plone.app.event//EN
X-WR-TIMEZONE:America/Toronto
BEGIN:VEVENT
SUMMARY:Workshop on empirical\, analytical and speculative approaches to t
 uning
DTSTART;TZID=America/Montreal;VALUE=DATE-TIME:20130118T133000
DTEND;TZID=America/Montreal;VALUE=DATE-TIME:20130118T180000
DTSTAMP;VALUE=DATE-TIME:20260421T214714Z
UID:cb774093c2466ab947b0056087151f01@project_zeoclients
CREATED;VALUE=DATE-TIME:20220210T004220Z
DESCRIPTION:This workshop is organized by CIRMMT Research Axis 3 (Musical 
 information retrieval\, archiving and analysis). It will take place on Jan
 uary 18th\, in A832 (New Music Building). This workshop is free and open t
 o all. Registration is required. \n\n
LAST-MODIFIED;VALUE=DATE-TIME:20220211T185059Z
LOCATION:A832\, New Music Building\, 527 Sherbrooke St. West.
URL:https://www.cirmmt.org/en/events/workshops/meetings/tuning
END:VEVENT
BEGIN:VTIMEZONE
TZID:America/Montreal
X-LIC-LOCATION:America/Montreal
BEGIN:STANDARD
DTSTART;VALUE=DATE-TIME:20121104T010000
TZNAME:EST
TZOFFSETFROM:-0400
TZOFFSETTO:-0500
END:STANDARD
END:VTIMEZONE
END:VCALENDAR
