BEGIN:VCALENDAR
VERSION:2.0
PRODID:-//Plone.org//NONSGML plone.app.event//EN
X-WR-TIMEZONE:America/Toronto
BEGIN:VEVENT
SUMMARY:Workshop on variable acoustics in large spaces for music
DTSTART;TZID=America/Montreal;VALUE=DATE-TIME:20110407T100000
DTEND;TZID=America/Montreal;VALUE=DATE-TIME:20110408T170000
DTSTAMP;VALUE=DATE-TIME:20260422T002916Z
UID:c93d7a42b2d38d29cd703d21dd55925f@project_zeoclients
CREATED;VALUE=DATE-TIME:20220210T004216Z
DESCRIPTION:This workshop will take place on Thursday\, April 7th and Frid
 ay\, April 8th 2011\, in the New Music Building\, Schulich School of Music
 \, 527 Sherbrooke St. West\, Montreal.  This workshop is free and open to 
 all.  Registration is required for sessions 2-4. 
LAST-MODIFIED;VALUE=DATE-TIME:20220211T185058Z
LOCATION:A832\, New Music Building\, 527 Sherbrooke St. West. 
URL:https://www.cirmmt.org/en/events/workshops/meetings/variable-acoustics
END:VEVENT
BEGIN:VTIMEZONE
TZID:America/Montreal
X-LIC-LOCATION:America/Montreal
BEGIN:DAYLIGHT
DTSTART;VALUE=DATE-TIME:20110313T030000
TZNAME:EDT
TZOFFSETFROM:-0500
TZOFFSETTO:-0400
END:DAYLIGHT
END:VTIMEZONE
END:VCALENDAR
