BEGIN:VCALENDAR
VERSION:2.0
PRODID:-//Plone.org//NONSGML plone.app.event//EN
X-WR-TIMEZONE:America/Toronto
BEGIN:VEVENT
SUMMARY:Wind Instrument Workshop
DTSTART;TZID=America/Montreal;VALUE=DATE-TIME:20080220T090000
DTEND;TZID=America/Montreal;VALUE=DATE-TIME:20080220T170000
DTSTAMP;VALUE=DATE-TIME:20260422T042724Z
UID:527f35c24ab501b4a3aae37a53fc2996@project_zeoclients
CREATED;VALUE=DATE-TIME:20220210T004215Z
DESCRIPTION:The Consonnes project (ANR-CNRS) together with the OICCM and C
 IRMMT axes SMASP & MG are organizing a one-day workshop on wind instrument
 s. It will take place on February 20th\, 2008 at  McGill University (A832\
 , New Music Building\, 527 Sherbrooke St. West). 
LAST-MODIFIED;VALUE=DATE-TIME:20220211T185058Z
LOCATION:A832\, New Music Building\, McGill University (enter via 555 Sher
 brooke St. West)
URL:https://www.cirmmt.org/en/events/workshops/meetings/wind-instruments
END:VEVENT
BEGIN:VTIMEZONE
TZID:America/Montreal
X-LIC-LOCATION:America/Montreal
BEGIN:STANDARD
DTSTART;VALUE=DATE-TIME:20071104T010000
TZNAME:EST
TZOFFSETFROM:-0400
TZOFFSETTO:-0500
END:STANDARD
END:VTIMEZONE
END:VCALENDAR
