BEGIN:VCALENDAR
VERSION:2.0
PRODID:-//Plone.org//NONSGML plone.app.event//EN
X-WR-TIMEZONE:America/Toronto
BEGIN:VEVENT
SUMMARY:Workshop on embodiment and music creation (I)
DTSTART;TZID=America/Toronto;VALUE=DATE-TIME:20260203T093000
DTEND;TZID=America/Toronto;VALUE=DATE-TIME:20260203T150000
DTSTAMP;VALUE=DATE-TIME:20260421T083640Z
UID:b6d20d1619da46b5a1cefd19d87d8a31@project_zeoclients
CONTACT:info [AT] cirmmt (DOT] org
CREATED;VALUE=DATE-TIME:20251217T173356Z
DESCRIPTION:An event organized in collaboration with Research Axis 3 (Cogn
 ition\, perception and movement) and 4 (Expanded musical practice)
LAST-MODIFIED;VALUE=DATE-TIME:20260130T192639Z
LOCATION:B-325\, Faculty of Musique\, Université de Montréal\, 200 Avenu
 e Vincent-d'Indy
URL:https://www.cirmmt.org/en/events/workshops/research/03-feb-2026-embodi
 ment-music-creation
END:VEVENT
BEGIN:VTIMEZONE
TZID:America/Toronto
X-LIC-LOCATION:America/Toronto
BEGIN:STANDARD
DTSTART;VALUE=DATE-TIME:20251102T010000
TZNAME:EST
TZOFFSETFROM:-0400
TZOFFSETTO:-0500
END:STANDARD
END:VTIMEZONE
END:VCALENDAR
