BEGIN:VCALENDAR
VERSION:2.0
PRODID:-//Plone.org//NONSGML plone.app.event//EN
X-WR-TIMEZONE:America/Toronto
BEGIN:VEVENT
SUMMARY:Workshop on embodiment and music creation (II)
DTSTART;TZID=America/Toronto;VALUE=DATE-TIME:20260204T093000
DTEND;TZID=America/Toronto;VALUE=DATE-TIME:20260204T120000
DTSTAMP;VALUE=DATE-TIME:20260421T082434Z
UID:565cfdf5534540019c77f7e99073d70e@project_zeoclients
CONTACT:info [AT] cirmmt (DOT] org
CREATED;VALUE=DATE-TIME:20260128T190100Z
DESCRIPTION:Event organized in collaboration with Research Axis 3 (Cogniti
 on\, perception and movement) and 4 (Expanded musical practice)
LAST-MODIFIED;VALUE=DATE-TIME:20260130T192903Z
LOCATION:A832 (8 floor)\, Elizabeth Wirth Music Building\, 527 Sherbrooke 
 O
URL:https://www.cirmmt.org/en/events/workshops/research/04-feb-2026-embodi
 ment-music-creation-2
END:VEVENT
BEGIN:VTIMEZONE
TZID:America/Toronto
X-LIC-LOCATION:America/Toronto
BEGIN:STANDARD
DTSTART;VALUE=DATE-TIME:20251102T010000
TZNAME:EST
TZOFFSETFROM:-0400
TZOFFSETTO:-0500
END:STANDARD
END:VTIMEZONE
END:VCALENDAR
