BEGIN:VCALENDAR
VERSION:2.0
PRODID:-//Plone.org//NONSGML plone.app.event//EN
X-WR-TIMEZONE:America/Toronto
BEGIN:VEVENT
SUMMARY:Unrealistic Spaces: 3D electroacoustic music recording demo
DTSTART;TZID=America/Toronto;VALUE=DATE-TIME:20251111T170000
DTEND;TZID=America/Toronto;VALUE=DATE-TIME:20251111T183000
DTSTAMP;VALUE=DATE-TIME:20260421T065031Z
UID:d9becd730dac414b921b2e827c02e0ef@project_zeoclients
CONTACT:info [AT] cirmmt (DOT] org
CREATED;VALUE=DATE-TIME:20250930T161347Z
DESCRIPTION:A workshop presented by Research Axis 1 (Instruments\, devices
  & systems)
LAST-MODIFIED;VALUE=DATE-TIME:20251002T180246Z
LOCATION:Multimedia room MMR (-2 floor)\, Elizabeth Wirth Music Building\,
  527 Sherbrooke Street O
URL:https://www.cirmmt.org/en/events/workshops/research/11-nov-2025-unreal
 istic-spaces
END:VEVENT
BEGIN:VTIMEZONE
TZID:America/Toronto
X-LIC-LOCATION:America/Toronto
BEGIN:STANDARD
DTSTART;VALUE=DATE-TIME:20251102T010000
TZNAME:EST
TZOFFSETFROM:-0400
TZOFFSETTO:-0500
END:STANDARD
END:VTIMEZONE
END:VCALENDAR
