BEGIN:VCALENDAR
VERSION:2.0
PRODID:-//Plone.org//NONSGML plone.app.event//EN
X-WR-TIMEZONE:America/Toronto
BEGIN:VEVENT
SUMMARY:Workshop on voice\, timbre\, metaphors and materiality in contempo
 rary music
DTSTART;TZID=America/Toronto;VALUE=DATE-TIME:20241112T093000
DTEND;TZID=America/Toronto;VALUE=DATE-TIME:20241112T170000
DTSTAMP;VALUE=DATE-TIME:20260425T192940Z
UID:36dbbae9b01c4526a76499b5f895f9a2@project_zeoclients
CONTACT:info [AT] cirmmt [DOT] org\, info@cirmmt.org
CREATED;VALUE=DATE-TIME:20240924T155523Z
DESCRIPTION:An event organized by CIRMMT Research Axis 3 (Cognition\, perc
 eption and movement) in collaboration with the ACTOR Project.
LAST-MODIFIED;VALUE=DATE-TIME:20241111T203521Z
LOCATION:A-832 (8th floor) and Tanna Schulich Hall\, Elizabeth Wirth Music
  Building\, 527 Sherbrooke St. W.
URL:https://www.cirmmt.org/en/events/workshops/research/12-nov-2024
END:VEVENT
BEGIN:VTIMEZONE
TZID:America/Toronto
X-LIC-LOCATION:America/Toronto
BEGIN:STANDARD
DTSTART;VALUE=DATE-TIME:20241103T010000
TZNAME:EST
TZOFFSETFROM:-0400
TZOFFSETTO:-0500
END:STANDARD
END:VTIMEZONE
END:VCALENDAR
