BEGIN:VCALENDAR
VERSION:2.0
PRODID:-//Plone.org//NONSGML plone.app.event//EN
X-WR-TIMEZONE:America/Toronto
BEGIN:VEVENT
SUMMARY:IAM@CIRMMT#26: Spatial Audio for Interactive Media
DTSTART;TZID=America/Toronto;VALUE=DATE-TIME:20240912T180000
DTEND;TZID=America/Toronto;VALUE=DATE-TIME:20240912T220000
DTSTAMP;VALUE=DATE-TIME:20260421T111358Z
UID:f49b14e679b24abba508cb4440065930@project_zeoclients
CONTACT:Interactive Audio Montreal\, info@interactiveaudiomontreal.com\, h
 ttps://www.interactiveaudiomontreal.com/events/iam-cirmmt-26-community-rou
 ndtable
CREATED;VALUE=DATE-TIME:20240828T140113Z
DESCRIPTION:IAM@CIRMMT #26 will take the form of a community roundtable\, 
 where we'll be talking about spatial audio for interactive media and askin
 g the question: How far is far enough?
LAST-MODIFIED;VALUE=DATE-TIME:20250325T165425Z
LOCATION:A-832\, 8th floor\, Elizabeth Wirth Music Building\, 527 Sherbroo
 ke O.
URL:https://www.cirmmt.org/en/events/workshops/research/12-sep-2024
END:VEVENT
BEGIN:VTIMEZONE
TZID:America/Toronto
X-LIC-LOCATION:America/Toronto
BEGIN:DAYLIGHT
DTSTART;VALUE=DATE-TIME:20240310T030000
TZNAME:EDT
TZOFFSETFROM:-0500
TZOFFSETTO:-0400
END:DAYLIGHT
END:VTIMEZONE
END:VCALENDAR
