BEGIN:VCALENDAR
VERSION:2.0
PRODID:-//Plone.org//NONSGML plone.app.event//EN
X-WR-TIMEZONE:America/Toronto
BEGIN:VEVENT
SUMMARY:Societal\, creative and research impacts of data-driven approaches
  to music
DTSTART;TZID=America/Toronto;VALUE=DATE-TIME:20250318T123000
DTEND;TZID=America/Toronto;VALUE=DATE-TIME:20250318T160000
DTSTAMP;VALUE=DATE-TIME:20260421T111157Z
UID:d173bbd4454d4074a31d78b2993f4cee@project_zeoclients
CONTACT:info[AT]cirmmt[DOT]org
CREATED;VALUE=DATE-TIME:20250212T195144Z
DESCRIPTION:A workshop organized by Research axis 2 (Music information res
 earch) with guest speaker Emilia Gómez
LAST-MODIFIED;VALUE=DATE-TIME:20250312T184357Z
LOCATION:A832 (8 floor)\, Elizabeth Wirth Music Building\, 527 Sherbrooke 
 O
URL:https://www.cirmmt.org/en/events/workshops/research/18-mar-2025-data-d
 riven-approaches
END:VEVENT
BEGIN:VTIMEZONE
TZID:America/Toronto
X-LIC-LOCATION:America/Toronto
BEGIN:DAYLIGHT
DTSTART;VALUE=DATE-TIME:20250309T030000
TZNAME:EDT
TZOFFSETFROM:-0500
TZOFFSETTO:-0400
END:DAYLIGHT
END:VTIMEZONE
END:VCALENDAR
