BEGIN:VCALENDAR
VERSION:2.0
PRODID:-//Plone.org//NONSGML plone.app.event//EN
X-WR-TIMEZONE:America/Toronto
BEGIN:VEVENT
SUMMARY:Where art meets research: Collective interactivity and Virtuose É
 lite
DTSTART;TZID=America/Toronto;VALUE=DATE-TIME:20260402T130000
DTEND;TZID=America/Toronto;VALUE=DATE-TIME:20260402T170000
DTSTAMP;VALUE=DATE-TIME:20260420T074915Z
UID:3a1dbd0731514f2298a36d2e8585d214@project_zeoclients
CONTACT:info[AT]cirmmt[DOT]org
CREATED;VALUE=DATE-TIME:20260319T162224Z
DESCRIPTION:A workshop presented in collaboration with Lab148\, Accès Sc
 ène Montréal\, and CIRMMT
LAST-MODIFIED;VALUE=DATE-TIME:20260401T134121Z
LOCATION:A832 (8 floor)\, Elizabeth Wirth Music Building\, 527 Sherbrooke 
 O
URL:https://www.cirmmt.org/en/events/workshops/research/2-apr-2026-where-a
 rt-meets-research
END:VEVENT
BEGIN:VTIMEZONE
TZID:America/Toronto
X-LIC-LOCATION:America/Toronto
BEGIN:DAYLIGHT
DTSTART;VALUE=DATE-TIME:20260308T030000
TZNAME:EDT
TZOFFSETFROM:-0500
TZOFFSETTO:-0400
END:DAYLIGHT
END:VTIMEZONE
END:VCALENDAR
