BEGIN:VCALENDAR
VERSION:2.0
PRODID:-//Plone.org//NONSGML plone.app.event//EN
X-WR-TIMEZONE:America/Toronto
BEGIN:VEVENT
SUMMARY:Real and virtual acoustic spaces and their occupants
DTSTART;TZID=America/Toronto;VALUE=DATE-TIME:20260120T123000
DTEND;TZID=America/Toronto;VALUE=DATE-TIME:20260120T170000
DTSTAMP;VALUE=DATE-TIME:20260421T065217Z
UID:a0d1eec1352542dfb2979cbbcc0fb6b0@project_zeoclients
CONTACT:info [AT] cirmmt (DOT] org
CREATED;VALUE=DATE-TIME:20251215T181400Z
DESCRIPTION:This workshop is organized by CIRMMT Research Axis 1 (Instrume
 nts\, devices & systems)
LAST-MODIFIED;VALUE=DATE-TIME:20260116T180135Z
LOCATION:A832 (8 floor)\, Elizabeth Wirth Music Building\, 527 Sherbrooke 
 O
URL:https://www.cirmmt.org/en/events/workshops/research/20-jan-2025-real-v
 irtual-acoustic-spaces
END:VEVENT
BEGIN:VTIMEZONE
TZID:America/Toronto
X-LIC-LOCATION:America/Toronto
BEGIN:STANDARD
DTSTART;VALUE=DATE-TIME:20251102T010000
TZNAME:EST
TZOFFSETFROM:-0400
TZOFFSETTO:-0500
END:STANDARD
END:VTIMEZONE
END:VCALENDAR
