BEGIN:VCALENDAR
VERSION:2.0
PRODID:-//Plone.org//NONSGML plone.app.event//EN
X-WR-TIMEZONE:America/Toronto
BEGIN:VEVENT
SUMMARY:Max for Live Connection Tools Workshop
DTSTART;TZID=America/Toronto;VALUE=DATE-TIME:20251020T130000
DTEND;TZID=America/Toronto;VALUE=DATE-TIME:20251020T160000
DTSTAMP;VALUE=DATE-TIME:20260421T064518Z
UID:80e79bf55a47408f9a7152a13df5e2cc@project_zeoclients
CONTACT:info [AT] cirmmt (DOT] org
CREATED;VALUE=DATE-TIME:20250926T193742Z
LAST-MODIFIED;VALUE=DATE-TIME:20251009T171135Z
LOCATION:Multimedia room MMR (-2 floor)\, Elizabeth Wirth Music Building\,
  527 Sherbrooke Street O
URL:https://www.cirmmt.org/en/events/workshops/research/20-oct-2025-max-fo
 r-live-tools
END:VEVENT
BEGIN:VTIMEZONE
TZID:America/Toronto
X-LIC-LOCATION:America/Toronto
BEGIN:DAYLIGHT
DTSTART;VALUE=DATE-TIME:20250309T030000
TZNAME:EDT
TZOFFSETFROM:-0500
TZOFFSETTO:-0400
END:DAYLIGHT
END:VTIMEZONE
END:VCALENDAR
