BEGIN:VCALENDAR
VERSION:2.0
PRODID:-//Plone.org//NONSGML plone.app.event//EN
X-WR-TIMEZONE:America/Toronto
BEGIN:VEVENT
SUMMARY:Emmanuel Fléty (IRCAM):  Evolution of Augmented Instruments’ Te
 chnology at IRCAM and Application to the Design of Cléo Palacio-Quintin
 ’s Hyper-flutes 2.0
DTSTART;TZID=America/Toronto;VALUE=DATE-TIME:20250924T090000
DTEND;TZID=America/Toronto;VALUE=DATE-TIME:20250924T110000
DTSTAMP;VALUE=DATE-TIME:20260421T123312Z
UID:d1ad517be9c446e7807767befa0d629a@project_zeoclients
CONTACT:info [AT] cirmmt (DOT] org
CREATED;VALUE=DATE-TIME:20250911T174033Z
DESCRIPTION:A workshop presented in collaboration with Research Axis 1 (In
 struments\, devices & systems) and 4 (Expanded musical practice).
LAST-MODIFIED;VALUE=DATE-TIME:20250919T193401Z
LOCATION:A832 (8 floor)\, Elizabeth Wirth Music Building\, 527 Sherbrooke 
 O
URL:https://www.cirmmt.org/en/events/workshops/research/24-sep-2025-evolut
 ion-of-augmented-instruments
END:VEVENT
BEGIN:VTIMEZONE
TZID:America/Toronto
X-LIC-LOCATION:America/Toronto
BEGIN:DAYLIGHT
DTSTART;VALUE=DATE-TIME:20250309T030000
TZNAME:EDT
TZOFFSETFROM:-0500
TZOFFSETTO:-0400
END:DAYLIGHT
END:VTIMEZONE
END:VCALENDAR
