BEGIN:VCALENDAR
VERSION:2.0
PRODID:-//Plone.org//NONSGML plone.app.event//EN
X-WR-TIMEZONE:America/Toronto
BEGIN:VEVENT
SUMMARY:Sonic interventions in public space — Workshop on soundscape des
 ign and situated sound art
DTSTART;TZID=America/Toronto;VALUE=DATE-TIME:20251203T093000
DTEND;TZID=America/Toronto;VALUE=DATE-TIME:20251204T160000
DTSTAMP;VALUE=DATE-TIME:20260421T065029Z
UID:7d22bce279f74376ad376a95dd498b9e@project_zeoclients
CONTACT:info [AT] cirmmt (DOT] org
CREATED;VALUE=DATE-TIME:20251029T192500Z
DESCRIPTION:This workshop is co-presented by CIRMMT research axes 2 (Music
  information research) and RA4 (Expanded musical practice)
LAST-MODIFIED;VALUE=DATE-TIME:20251201T235800Z
LOCATION:Multimedia room MMR (-2 floor)\, Elizabeth Wirth Music Building\,
  527 Sherbrooke O
URL:https://www.cirmmt.org/en/events/workshops/research/3-4-dec-2025-situa
 ted-sound-art
END:VEVENT
BEGIN:VTIMEZONE
TZID:America/Toronto
X-LIC-LOCATION:America/Toronto
BEGIN:STANDARD
DTSTART;VALUE=DATE-TIME:20251102T010000
TZNAME:EST
TZOFFSETFROM:-0400
TZOFFSETTO:-0500
END:STANDARD
END:VTIMEZONE
END:VCALENDAR
