BEGIN:VCALENDAR
VERSION:2.0
PRODID:-//Plone.org//NONSGML plone.app.event//EN
X-WR-TIMEZONE:America/Toronto
BEGIN:VEVENT
SUMMARY:Ryoko Akama – Amplified and/or non-amplified: provoking a space 
 as instrument
DTSTART;TZID=America/Toronto;VALUE=DATE-TIME:20250930T100000
DTEND;TZID=America/Toronto;VALUE=DATE-TIME:20250930T130000
DTSTAMP;VALUE=DATE-TIME:20260421T111603Z
UID:5f66f5f5575743289fdc465b87492117@project_zeoclients
CONTACT:info [AT] cirmmt (DOT] org
CREATED;VALUE=DATE-TIME:20250908T170623Z
DESCRIPTION:A workshop presented by Research axis 4 (Expanded musical prac
 tice) with sound artist and composer Ryoko Akama.
LAST-MODIFIED;VALUE=DATE-TIME:20250925T181235Z
LOCATION:Espace LFO (B-325)\, Faculty of Music\, Université de Montréal\
 , 200\, Avenue Vincent-d’Indy
URL:https://www.cirmmt.org/en/events/workshops/research/30-sep-2025-ryoko-
 akama
END:VEVENT
BEGIN:VTIMEZONE
TZID:America/Toronto
X-LIC-LOCATION:America/Toronto
BEGIN:DAYLIGHT
DTSTART;VALUE=DATE-TIME:20250309T030000
TZNAME:EDT
TZOFFSETFROM:-0500
TZOFFSETTO:-0400
END:DAYLIGHT
END:VTIMEZONE
END:VCALENDAR
