BEGIN:VCALENDAR
VERSION:2.0
PRODID:-//Plone.org//NONSGML plone.app.event//EN
X-WR-TIMEZONE:America/Toronto
BEGIN:VEVENT
SUMMARY:Musician-led perspectives on the role of technology in creation\, 
 performance\, and capture
DTSTART;TZID=America/Toronto;VALUE=DATE-TIME:20250404T130000
DTEND;TZID=America/Toronto;VALUE=DATE-TIME:20250404T163000
DTSTAMP;VALUE=DATE-TIME:20260421T111610Z
UID:70e62794f6434aaf87bb9810a48917f0@project_zeoclients
CONTACT:info[AT]cirmmt[DOT]org
CREATED;VALUE=DATE-TIME:20250312T160912Z
DESCRIPTION:A workshop organized by Research Axis 1 (Instruments\, devices
  & systems) and Research Axis 4 (Expanded musical practice) with invited g
 uests Dafna Naphtali\, Dr. Althea SullyCole\, and Hans Tammen.
LAST-MODIFIED;VALUE=DATE-TIME:20250402T151216Z
LOCATION:A832 (8 floor)\, Elizabeth Wirth Music Building\, 527 Sherbrooke 
 O
URL:https://www.cirmmt.org/en/events/workshops/research/4-apr-2025-musicia
 n-led-perspectives
END:VEVENT
BEGIN:VTIMEZONE
TZID:America/Toronto
X-LIC-LOCATION:America/Toronto
BEGIN:DAYLIGHT
DTSTART;VALUE=DATE-TIME:20250309T030000
TZNAME:EDT
TZOFFSETFROM:-0500
TZOFFSETTO:-0400
END:DAYLIGHT
END:VTIMEZONE
END:VCALENDAR
