BEGIN:VCALENDAR
VERSION:2.0
PRODID:-//Plone.org//NONSGML plone.app.event//EN
X-WR-TIMEZONE:America/Toronto
BEGIN:VEVENT
SUMMARY:Jeff Snyder: Phones as mobile electronic instruments and alternati
 ve animated notation concepts
DTSTART;TZID=America/Toronto;VALUE=DATE-TIME:20250204T090000
DTEND;TZID=America/Toronto;VALUE=DATE-TIME:20250204T120000
DTSTAMP;VALUE=DATE-TIME:20260421T111418Z
UID:b6e95e30c5a844bc872eeebc8b750e9c@project_zeoclients
CONTACT:info[AT]cirmmt[DOT]org
CREATED;VALUE=DATE-TIME:20240925T203711Z
DESCRIPTION:A workshop organized by Research Axis 1 (Instruments\, devices
  & systems) and Axis 4 (Expanded musical practice).
LAST-MODIFIED;VALUE=DATE-TIME:20250129T174410Z
LOCATION:A832 (8 floor)\, Elizabeth Wirth Music Building\, 527 Sherbrooke 
 O
URL:https://www.cirmmt.org/en/events/workshops/research/4-feb-2025
END:VEVENT
BEGIN:VTIMEZONE
TZID:America/Toronto
X-LIC-LOCATION:America/Toronto
BEGIN:STANDARD
DTSTART;VALUE=DATE-TIME:20241103T010000
TZNAME:EST
TZOFFSETFROM:-0400
TZOFFSETTO:-0500
END:STANDARD
END:VTIMEZONE
END:VCALENDAR
