BEGIN:VCALENDAR
VERSION:2.0
PRODID:-//Plone.org//NONSGML plone.app.event//EN
X-WR-TIMEZONE:America/Toronto
BEGIN:VEVENT
SUMMARY:Practice prevents obsolescence: Supporting DMIs for the long haul
DTSTART;TZID=America/Toronto;VALUE=DATE-TIME:20251105T090000
DTEND;TZID=America/Toronto;VALUE=DATE-TIME:20251105T120000
DTSTAMP;VALUE=DATE-TIME:20260423T063935Z
UID:438380d42a70489599d6ed65e2a94d5c@project_zeoclients
CONTACT:info [AT] cirmmt (DOT] org
CREATED;VALUE=DATE-TIME:20251014T190829Z
DESCRIPTION:This workshop is presented by Axis 4 (Expanded musical practic
 e) with guest Mari Kimura
LAST-MODIFIED;VALUE=DATE-TIME:20251105T132406Z
LOCATION:C-204 (2 floor)\, Strathcona Music Building\, 555 Sherbrooke O
URL:https://www.cirmmt.org/en/events/workshops/research/5-nov-2025-dmis-fo
 r-the-long-haul
END:VEVENT
BEGIN:VTIMEZONE
TZID:America/Toronto
X-LIC-LOCATION:America/Toronto
BEGIN:STANDARD
DTSTART;VALUE=DATE-TIME:20251102T010000
TZNAME:EST
TZOFFSETFROM:-0400
TZOFFSETTO:-0500
END:STANDARD
END:VTIMEZONE
END:VCALENDAR
